BEGIN:VCALENDAR
VERSION:2.0
PRODID:-//Cootamundra Golf &amp; Sports Club - ECPv6.15.17//NONSGML v1.0//EN
CALSCALE:GREGORIAN
METHOD:PUBLISH
X-ORIGINAL-URL:https://www.cootamundragolfandsports.com.au
X-WR-CALDESC:Events for Cootamundra Golf &amp; Sports Club
REFRESH-INTERVAL;VALUE=DURATION:PT1H
X-Robots-Tag:noindex
X-PUBLISHED-TTL:PT1H
BEGIN:VTIMEZONE
TZID:Australia/Sydney
BEGIN:STANDARD
TZOFFSETFROM:+1100
TZOFFSETTO:+1000
TZNAME:AEST
DTSTART:20210403T160000
END:STANDARD
BEGIN:DAYLIGHT
TZOFFSETFROM:+1000
TZOFFSETTO:+1100
TZNAME:AEDT
DTSTART:20211002T160000
END:DAYLIGHT
BEGIN:STANDARD
TZOFFSETFROM:+1100
TZOFFSETTO:+1000
TZNAME:AEST
DTSTART:20220402T160000
END:STANDARD
BEGIN:DAYLIGHT
TZOFFSETFROM:+1000
TZOFFSETTO:+1100
TZNAME:AEDT
DTSTART:20221001T160000
END:DAYLIGHT
BEGIN:STANDARD
TZOFFSETFROM:+1100
TZOFFSETTO:+1000
TZNAME:AEST
DTSTART:20230401T160000
END:STANDARD
BEGIN:DAYLIGHT
TZOFFSETFROM:+1000
TZOFFSETTO:+1100
TZNAME:AEDT
DTSTART:20230930T160000
END:DAYLIGHT
BEGIN:STANDARD
TZOFFSETFROM:+1100
TZOFFSETTO:+1000
TZNAME:AEST
DTSTART:20240406T160000
END:STANDARD
BEGIN:DAYLIGHT
TZOFFSETFROM:+1000
TZOFFSETTO:+1100
TZNAME:AEDT
DTSTART:20241005T160000
END:DAYLIGHT
END:VTIMEZONE
BEGIN:VEVENT
DTSTART;TZID=Australia/Sydney:20230304T080000
DTEND;TZID=Australia/Sydney:20230304T170000
DTSTAMP:20260420T055553
CREATED:20230113T002248Z
LAST-MODIFIED:20230116T005921Z
UID:2352-1677916800-1677949200@www.cootamundragolfandsports.com.au
SUMMARY:Sydney Hotshots
DESCRIPTION:Saturday 4 March \n  \nVIP Tickets = $80 including a meet n greet\, cocktails \nDoors open at 6:30pm \n  \nGeneral Admission = $35 \nDoors open at 7:30pm \n  \n$10 Mr. Consistent Cocktails all night! \n  \nGrab your tickets here
URL:https://www.cootamundragolfandsports.com.au/event/sydney-hotshots/
CATEGORIES:Entertainment
END:VEVENT
BEGIN:VEVENT
DTSTART;TZID=Australia/Sydney:20230224T200000
DTEND;TZID=Australia/Sydney:20230225T003000
DTSTAMP:20260420T055553
CREATED:20230111T024311Z
LAST-MODIFIED:20230116T005945Z
UID:2340-1677268800-1677285000@www.cootamundragolfandsports.com.au
SUMMARY:Lonely Hearts @ Wyong Leagues
DESCRIPTION:Friday 24 February \nCoastlife Entertainment and Wyong Leagues Group presents RNB Anthems – Lonely Hearts Club! \nResident DJs Moni\, Trivaan\, Rumble & Jojo will be spinning all your favourite RNB bangers in the Showroom with a special guest appearance from DJELLIEGANT. \nDoors open at 8pm! Get in early to avoid disappointment. \nLimited $15 pre-sale tickets available! $20 on the door. \nTickets Available Here
URL:https://www.cootamundragolfandsports.com.au/event/lonely-hearts-wyong-leagues/
CATEGORIES:Entertainment
ATTACH;FMTTYPE=image/jpeg:https://www.cootamundragolfandsports.com.au/wp-content/uploads/2023/01/WRLC-Lonely-Heart-RNB-FBS-22-2.jpg
END:VEVENT
BEGIN:VEVENT
DTSTART;TZID=Australia/Sydney:20230211T080000
DTEND;TZID=Australia/Sydney:20230212T003000
DTSTAMP:20260420T055553
CREATED:20230111T030135Z
LAST-MODIFIED:20230116T010017Z
UID:2345-1676102400-1676161800@www.cootamundragolfandsports.com.au
SUMMARY:Valentine’s Masquerade Ball
DESCRIPTION:Saturday 11 February \nWyong Leagues Club in collaboration with Connect Social Central Coast presents the inaugural Valentine’s Masquerade Ball in the Showroom at Wyong Leagues Club. \nThis event is for everyone who would like to celebrate love\, whether as a couple\, amongst friends and family\, as a single person. Let’s dress up\, find a mask\, and dance the night away with awesome entertainment until after midnight. \nDate: Saturday 11th February 2023 \nTime: 8pm – 12:30am \nDress Code: Formal \nColor Theme: Black/ White/ Red/ Silver/ Gold \nEntertainment: Tabu Soul (7 piece band) & DJ \nThree hour drinks package included in tickets (beer\, wine\, soft drink) \nThere will be tray service for drinks as well as purchase at bar options. \nTickets Available Here
URL:https://www.cootamundragolfandsports.com.au/event/valentines-masquerade-ball/
CATEGORIES:Entertainment
ATTACH;FMTTYPE=image/jpeg:https://www.cootamundragolfandsports.com.au/wp-content/uploads/2023/01/WRLC-Valentines-Ball-FBS-23.jpg
END:VEVENT
BEGIN:VEVENT
DTSTART;TZID=Australia/Sydney:20220827T210000
DTEND;TZID=Australia/Sydney:20220827T210000
DTSTAMP:20260420T055553
CREATED:20220816T020104Z
LAST-MODIFIED:20220817T013927Z
UID:377-1661634000-1661634000@www.cootamundragolfandsports.com.au
SUMMARY:Most Wanted - 80's Tribute
DESCRIPTION:
URL:https://www.cootamundragolfandsports.com.au/event/most-wanted-80s-tribute/
CATEGORIES:Entertainment
ATTACH;FMTTYPE=image/png:https://www.cootamundragolfandsports.com.au/wp-content/uploads/2022/08/entertainment1.png
END:VEVENT
BEGIN:VEVENT
DTSTART;TZID=Australia/Sydney:20220826T210000
DTEND;TZID=Australia/Sydney:20220826T210000
DTSTAMP:20260420T055553
CREATED:20220816T020145Z
LAST-MODIFIED:20220817T014000Z
UID:378-1661547600-1661547600@www.cootamundragolfandsports.com.au
SUMMARY:Kuta Groove
DESCRIPTION:
URL:https://www.cootamundragolfandsports.com.au/event/kuta-groove/
CATEGORIES:Entertainment
ATTACH;FMTTYPE=image/png:https://www.cootamundragolfandsports.com.au/wp-content/uploads/2022/08/Screen-Shot-2022-08-16-at-6.16.47-pm.png
END:VEVENT
BEGIN:VEVENT
DTSTART;TZID=Australia/Sydney:20220820T210000
DTEND;TZID=Australia/Sydney:20220820T210000
DTSTAMP:20260420T055553
CREATED:20220816T020223Z
LAST-MODIFIED:20220817T014102Z
UID:379-1661029200-1661029200@www.cootamundragolfandsports.com.au
SUMMARY:DJ Freddo
DESCRIPTION:
URL:https://www.cootamundragolfandsports.com.au/event/dj-freddo/
CATEGORIES:Entertainment
ATTACH;FMTTYPE=image/jpeg:https://www.cootamundragolfandsports.com.au/wp-content/uploads/2022/08/djfreddo.jpeg
END:VEVENT
BEGIN:VEVENT
DTSTART;TZID=Australia/Sydney:20220819T210000
DTEND;TZID=Australia/Sydney:20220819T210000
DTSTAMP:20260420T055553
CREATED:20220816T020303Z
LAST-MODIFIED:20220928T001647Z
UID:380-1660942800-1660942800@www.cootamundragolfandsports.com.au
SUMMARY:The Lovebirds Duo
DESCRIPTION:
URL:https://www.cootamundragolfandsports.com.au/event/the-lovebirds-duo/
CATEGORIES:Entertainment
ATTACH;FMTTYPE=image/png:https://www.cootamundragolfandsports.com.au/wp-content/uploads/2022/08/entertainment4.png
END:VEVENT
END:VCALENDAR